BEGIN:VCALENDAR
VERSION:2.0
PRODID:-//Tandem Formation - ECPv6.15.13//NONSGML v1.0//EN
CALSCALE:GREGORIAN
METHOD:PUBLISH
X-ORIGINAL-URL:https://tandem83-formations.com
X-WR-CALDESC:Évènements pour Tandem Formation
REFRESH-INTERVAL;VALUE=DURATION:PT1H
X-Robots-Tag:noindex
X-PUBLISHED-TTL:PT1H
BEGIN:VTIMEZONE
TZID:Europe/Paris
BEGIN:DAYLIGHT
TZOFFSETFROM:+0100
TZOFFSETTO:+0200
TZNAME:CEST
DTSTART:20250330T010000
END:DAYLIGHT
BEGIN:STANDARD
TZOFFSETFROM:+0200
TZOFFSETTO:+0100
TZNAME:CET
DTSTART:20251026T010000
END:STANDARD
BEGIN:DAYLIGHT
TZOFFSETFROM:+0100
TZOFFSETTO:+0200
TZNAME:CEST
DTSTART:20260329T010000
END:DAYLIGHT
BEGIN:STANDARD
TZOFFSETFROM:+0200
TZOFFSETTO:+0100
TZNAME:CET
DTSTART:20261025T010000
END:STANDARD
BEGIN:DAYLIGHT
TZOFFSETFROM:+0100
TZOFFSETTO:+0200
TZNAME:CEST
DTSTART:20270328T010000
END:DAYLIGHT
BEGIN:STANDARD
TZOFFSETFROM:+0200
TZOFFSETTO:+0100
TZNAME:CET
DTSTART:20271031T010000
END:STANDARD
END:VTIMEZONE
BEGIN:VEVENT
DTSTART;VALUE=DATE:20260202
DTEND;VALUE=DATE:20260207
DTSTAMP:20260425T222630
CREATED:20250715T125805Z
LAST-MODIFIED:20251216T131818Z
UID:3041-1770008400-1770353999@tandem83-formations.com
SUMMARY:Circuits de la Lumière - Les Fondamentaux
DESCRIPTION:Formation circuits de la lumière – les fondamentaux\nPour toute personne désireuse de se former à l’éclairage de la scène.
URL:https://tandem83-formations.com/agenda/lumiere-les-fondamentaux/
LOCATION:Pan Pot\, ZAC de nicopolis\, Rue de l’innovation\, BRIGNOLES\, 83170\, France
CATEGORIES:Formation aux Métiers Techniques
ORGANIZER;CN="Tandem formation":MAILTO:info@tandem83-formations.com
END:VEVENT
END:VCALENDAR