BEGIN:VCALENDAR
VERSION:2.0
PRODID:-//Tandem Formation - ECPv6.15.13//NONSGML v1.0//EN
CALSCALE:GREGORIAN
METHOD:PUBLISH
X-ORIGINAL-URL:https://tandem83-formations.com
X-WR-CALDESC:Évènements pour Tandem Formation
REFRESH-INTERVAL;VALUE=DURATION:PT1H
X-Robots-Tag:noindex
X-PUBLISHED-TTL:PT1H
BEGIN:VTIMEZONE
TZID:Europe/Paris
BEGIN:DAYLIGHT
TZOFFSETFROM:+0100
TZOFFSETTO:+0200
TZNAME:CEST
DTSTART:20250330T010000
END:DAYLIGHT
BEGIN:STANDARD
TZOFFSETFROM:+0200
TZOFFSETTO:+0100
TZNAME:CET
DTSTART:20251026T010000
END:STANDARD
BEGIN:DAYLIGHT
TZOFFSETFROM:+0100
TZOFFSETTO:+0200
TZNAME:CEST
DTSTART:20260329T010000
END:DAYLIGHT
BEGIN:STANDARD
TZOFFSETFROM:+0200
TZOFFSETTO:+0100
TZNAME:CET
DTSTART:20261025T010000
END:STANDARD
BEGIN:DAYLIGHT
TZOFFSETFROM:+0100
TZOFFSETTO:+0200
TZNAME:CEST
DTSTART:20270328T010000
END:DAYLIGHT
BEGIN:STANDARD
TZOFFSETFROM:+0200
TZOFFSETTO:+0100
TZNAME:CET
DTSTART:20271031T010000
END:STANDARD
END:VTIMEZONE
BEGIN:VEVENT
DTSTART;VALUE=DATE:20260209
DTEND;VALUE=DATE:20260213
DTSTAMP:20260425T222755
CREATED:20251216T145056Z
LAST-MODIFIED:20251216T145142Z
UID:3290-1770613200-1770872399@tandem83-formations.com
SUMMARY:COMMUNICATION DE CRISE DANS LE SECTEUR CULTUREL
DESCRIPTION:Formation Communication de crise | Contrairement à d’autres secteurs (industrie\, luxe\, agro-alimentaire\, etc.)\, la culture est peu préparée à la crise. Quand celle-ci survient\, elle aboutit le plus souvent à une désorganisation complète des systèmes de décision\, provoque une forme de sidération et une communication interne et externe chaotique. Or le secteur culturel n’est pas exempt de risques : violences sexistes et sexuelles (accusations ou condamnation d’un artiste programmé\, agression dans le public\, etc.)\, crise sanitaire\, crise financière\, etc…. \n 
URL:https://tandem83-formations.com/agenda/communication-de-crise-dans-le-secteur-culturel/
LOCATION:FOL\, 68 Av. Victor Agostini\, Toulon\, 83000\, France
ORGANIZER;CN="Tandem formation":MAILTO:info@tandem83-formations.com
END:VEVENT
END:VCALENDAR