BEGIN:VCALENDAR
VERSION:2.0
PRODID:-//Tandem Formation - ECPv6.15.13//NONSGML v1.0//EN
CALSCALE:GREGORIAN
METHOD:PUBLISH
X-ORIGINAL-URL:https://tandem83-formations.com
X-WR-CALDESC:Évènements pour Tandem Formation
REFRESH-INTERVAL;VALUE=DURATION:PT1H
X-Robots-Tag:noindex
X-PUBLISHED-TTL:PT1H
BEGIN:VTIMEZONE
TZID:Europe/Paris
BEGIN:DAYLIGHT
TZOFFSETFROM:+0100
TZOFFSETTO:+0200
TZNAME:CEST
DTSTART:20250330T010000
END:DAYLIGHT
BEGIN:STANDARD
TZOFFSETFROM:+0200
TZOFFSETTO:+0100
TZNAME:CET
DTSTART:20251026T010000
END:STANDARD
BEGIN:DAYLIGHT
TZOFFSETFROM:+0100
TZOFFSETTO:+0200
TZNAME:CEST
DTSTART:20260329T010000
END:DAYLIGHT
BEGIN:STANDARD
TZOFFSETFROM:+0200
TZOFFSETTO:+0100
TZNAME:CET
DTSTART:20261025T010000
END:STANDARD
BEGIN:DAYLIGHT
TZOFFSETFROM:+0100
TZOFFSETTO:+0200
TZNAME:CEST
DTSTART:20270328T010000
END:DAYLIGHT
BEGIN:STANDARD
TZOFFSETFROM:+0200
TZOFFSETTO:+0100
TZNAME:CET
DTSTART:20271031T010000
END:STANDARD
END:VTIMEZONE
BEGIN:VEVENT
DTSTART;VALUE=DATE:20260518
DTEND;VALUE=DATE:20260531
DTSTAMP:20260425T210601
CREATED:20250711T084723Z
LAST-MODIFIED:20260326T085617Z
UID:3038-1779080400-1780117199@tandem83-formations.com
SUMMARY:Console GRANDMA3
DESCRIPTION:Formation Console GrandMA3 niv 1\nCe stage s’adresse aux techniciens du spectacle\, pupitreurs lumière\, régisseurs lumière.
URL:https://tandem83-formations.com/agenda/console-grandma3/
LOCATION:Pan Pot\, ZAC de nicopolis\, Rue de l’innovation\, BRIGNOLES\, 83170\, France
CATEGORIES:Formation aux Métiers Techniques
ORGANIZER;CN="Tandem formation":MAILTO:info@tandem83-formations.com
END:VEVENT
END:VCALENDAR