BEGIN:VCALENDAR
VERSION:2.0
PRODID:-//Tandem Formation - ECPv6.15.13//NONSGML v1.0//EN
CALSCALE:GREGORIAN
METHOD:PUBLISH
X-WR-CALNAME:Tandem Formation
X-ORIGINAL-URL:https://tandem83-formations.com
X-WR-CALDESC:Évènements pour Tandem Formation
REFRESH-INTERVAL;VALUE=DURATION:PT1H
X-Robots-Tag:noindex
X-PUBLISHED-TTL:PT1H
BEGIN:VTIMEZONE
TZID:Europe/Paris
BEGIN:DAYLIGHT
TZOFFSETFROM:+0100
TZOFFSETTO:+0200
TZNAME:CEST
DTSTART:20250330T010000
END:DAYLIGHT
BEGIN:STANDARD
TZOFFSETFROM:+0200
TZOFFSETTO:+0100
TZNAME:CET
DTSTART:20251026T010000
END:STANDARD
BEGIN:DAYLIGHT
TZOFFSETFROM:+0100
TZOFFSETTO:+0200
TZNAME:CEST
DTSTART:20260329T010000
END:DAYLIGHT
BEGIN:STANDARD
TZOFFSETFROM:+0200
TZOFFSETTO:+0100
TZNAME:CET
DTSTART:20261025T010000
END:STANDARD
BEGIN:DAYLIGHT
TZOFFSETFROM:+0100
TZOFFSETTO:+0200
TZNAME:CEST
DTSTART:20270328T010000
END:DAYLIGHT
BEGIN:STANDARD
TZOFFSETFROM:+0200
TZOFFSETTO:+0100
TZNAME:CET
DTSTART:20271031T010000
END:STANDARD
END:VTIMEZONE
BEGIN:VEVENT
DTSTART;VALUE=DATE:20260316
DTEND;VALUE=DATE:20260322
DTSTAMP:20260425T235309
CREATED:20250711T083614Z
LAST-MODIFIED:20251216T132002Z
UID:3028-1773637200-1774069199@tandem83-formations.com
SUMMARY:Formation Structure Accroche\, Levage et Autorisation de conduite
DESCRIPTION:Formation Structure Accroche\, Levage et Autorisation de conduite\nCette formation s’adresse avant tout aux techniciens\, principalement dans le domaine du spectacle vivant ou de l’événementiel. Ces derniers ont la lourde responsabilité de réaliser des accroches et montages de différents types et matériels dans le respect de la réglementation sans que cela représente un danger pour lui et pour les autres.
URL:https://tandem83-formations.com/agenda/formation-structure-accroche-levage-et-autorisation-de-conduite-session-complete/
LOCATION:Châteauvallon\, 795 Chemin de Châteauvallon\, Ollioules\, 83192\, France
CATEGORIES:Formation Sécurité et Prévention
ORGANIZER;CN="Tandem formation":MAILTO:info@tandem83-formations.com
END:VEVENT
BEGIN:VEVENT
DTSTART;VALUE=DATE:20260316
DTEND;VALUE=DATE:20260322
DTSTAMP:20260425T235309
CREATED:20250715T130158Z
LAST-MODIFIED:20251216T145836Z
UID:3043-1773637200-1774069199@tandem83-formations.com
SUMMARY:CCP Sécurité des spectacles
DESCRIPTION:Formation Sécurité des Spectacles Entrepreneurs de spectacles vivants exploitants de lieux (ERP catégories 1 à 4) | La formation vise toutes personnes souhaitant acquérir des compétences dans le domaine de la sécurité en lien avec les activités d’entrepreneur de spectacle vivant correspondant à la catégorie d’exploitant de lieux\, dont la profession est réglementée : les exploitants des lieux aménagés pour les représentations publiques c’est-à-dire les établissements recevant du public du premier groupe (1ère à 4ème catégorie). Les publics du certificat de compétences peuvent notamment être des directeurs\, gérants\, administrateurs\, directeurs ou responsables techniques\, régisseurs généraux\, etc.
URL:https://tandem83-formations.com/agenda/ccp-securite-des-spectacles-2/
LOCATION:En ligne
CATEGORIES:Formation Sécurité et Prévention
ORGANIZER;CN="Tandem formation":MAILTO:info@tandem83-formations.com
END:VEVENT
END:VCALENDAR