BEGIN:VCALENDAR
VERSION:2.0
PRODID:-//Tandem Formation - ECPv6.15.13//NONSGML v1.0//EN
CALSCALE:GREGORIAN
METHOD:PUBLISH
X-ORIGINAL-URL:https://tandem83-formations.com
X-WR-CALDESC:Évènements pour Tandem Formation
REFRESH-INTERVAL;VALUE=DURATION:PT1H
X-Robots-Tag:noindex
X-PUBLISHED-TTL:PT1H
BEGIN:VTIMEZONE
TZID:Europe/Paris
BEGIN:DAYLIGHT
TZOFFSETFROM:+0100
TZOFFSETTO:+0200
TZNAME:CEST
DTSTART:20250330T010000
END:DAYLIGHT
BEGIN:STANDARD
TZOFFSETFROM:+0200
TZOFFSETTO:+0100
TZNAME:CET
DTSTART:20251026T010000
END:STANDARD
BEGIN:DAYLIGHT
TZOFFSETFROM:+0100
TZOFFSETTO:+0200
TZNAME:CEST
DTSTART:20260329T010000
END:DAYLIGHT
BEGIN:STANDARD
TZOFFSETFROM:+0200
TZOFFSETTO:+0100
TZNAME:CET
DTSTART:20261025T010000
END:STANDARD
BEGIN:DAYLIGHT
TZOFFSETFROM:+0100
TZOFFSETTO:+0200
TZNAME:CEST
DTSTART:20270328T010000
END:DAYLIGHT
BEGIN:STANDARD
TZOFFSETFROM:+0200
TZOFFSETTO:+0100
TZNAME:CET
DTSTART:20271031T010000
END:STANDARD
END:VTIMEZONE
BEGIN:VEVENT
DTSTART;VALUE=DATE:20261130
DTEND;VALUE=DATE:20261203
DTSTAMP:20260426T023022
CREATED:20260310T145402Z
LAST-MODIFIED:20260310T145402Z
UID:3342-1796014800-1796187599@tandem83-formations.com
SUMMARY:Cadre règlementaire et fiscal de la billetterie
DESCRIPTION:Formation Cadre Règlementaire et Fiscal de la Billetterie | Personnels souhaitant évoluer dans les métiers de la billetterie\, de l’accueil et de l’administration culturelle…
URL:https://tandem83-formations.com/agenda/cadre-reglementaire-et-fiscal-de-la-billetterie-2/
LOCATION:En ligne
CATEGORIES:Formation aux Métiers Administratifs
ORGANIZER;CN="Tandem formation":MAILTO:info@tandem83-formations.com
END:VEVENT
END:VCALENDAR